1.00000000000000000
0.00000000000000000
0.00000000000000000
-1.00000000000000000
494990.50000000000000000
3375009.50000000000000000
