1.00000000000000000
0.00000000000000000
0.00000000000000000
-1.00000000000000000
517490.50000000000000000
3360009.50000000000000000
