0.304800
0.000000
0.000000
-0.304800
206136.267456
218373.954031
