0.304800
0.000000
0.000000
-0.304800
156497.097250
214862.945157
