0.3048000000
0.0000000000
0.0000000000
-0.3048000000
139939.0654030000
218461.7537260000
