0.304800
0.000000
0.000000
-0.304800
315333.205255
258608.870391
