0.304800
0.000000
0.000000
-0.304800
245720.1524
270355.8476
