0.304800
0.000000
0.000000
-0.304800
216051.012901
214814.961397
