0.304800
0.000000
0.000000
-0.304800
173045.170800
218389.962000
