0.304800
0.000000
0.000000
-0.304800
123390.017050
218521.953918
