0.304800
0.000000
0.000000
-0.304800
120059.162636
211610.918690
