0.304800
0.000000
0.000000
-0.304800
259038.285671
232310.999030
