0.304800
0.000000
0.000000
-0.304800
249162.067216
225380.994987
