0.304800
0.000000
-0.000000
-0.304800
282199.062944
242774.714129
