0.304800
0.000000
0.000000
-0.304800
262315.190471
239242.760630
