0.304800
0.000000
0.000000
-0.304800
255689.143271
246137.946230
