0.304800
0.000000
0.000000
-0.304800
285388.156816
260075.857748
