0.304800
0.000000
0.000000
-0.304800
258955.075271
259974.951830
