0.304800
0.000000
0.000000
-0.304800
262216.130471
263434.736630
