0.304800
0.000000
0.000000
-0.304800
166447.272016
232229.939348
