0.304800
0.000000
-0.000000
-0.304800
235884.064816
242764.958187
