0.304800
0.000000
-0.000000
-0.304800
235899.000016
235804.850187
