0.304800
0.000000
0.000000
-0.304800
212754.012016
242758.862187
