0.304800
0.000000
0.000000
-0.304800
149734.070132
235823.777088
