0.304800
0.000000
0.000000
-0.304800
189625.255058
259877.799622
