0.304800
0.000000
-0.000000
-0.304800
179701.195216
256628.874548
