0.304800
0.000000
0.000000
-0.304800
176407.298189
259889.991622
