0.304800
0.000000
0.000000
-0.304800
173108.066416
252950.852948
