0.304800
0.000000
-0.000000
-0.304800
153279.302416
259921.933748
