0.304800
0.000000
0.000000
-0.304800
149916.139216
253015.775348
