0.304800
0.000000
0.000000
-0.304800
235820.127243
273748.971600
