0.304800
0.000000
0.000000
-0.304800
202826.066416
273675.728948
