0.304800
0.000000
-0.000000
-0.304800
186326.099841
263428.719641
