0.304800
0.000000
0.000000
-0.304800
146719.260741
273783.932948
