0.304800
0.000000
0.000000
-0.304800
120101.225036
221999.721932
