0.304800
0.000000
-0.000000
-0.304800
133464.254416
253052.960948
