0.304800
0.000000
-0.000000
-0.304800
116973.050473
263570.999267
