1.00000000000000
0.00000000000000
-0.00000000000000
-1.00000000000000
763118.50000000000000
3148849.50000000000000
