0.350000
0.000000
-0.000000
-0.350000
284200.175000
4566799.825000
