0.350000
0.000000
-0.000000
-0.350000
294000.175000
4589199.825000
