0.350000
0.000000
-0.000000
-0.350000
319200.175000
4593399.825000
