0.350000
0.000000
-0.000000
-0.350000
323400.175000
4597599.825000
