<?xml version="1.0" encoding="iso-8859-1"?>
<metadata>
  <idinfo>
    <citation>
      <citeinfo>
        <origin>Department of Commerce (DOC), National Oceanic and Atmospheric Administration (NOAA), National Ocean Service (NOS),Office for Coastal Management (OCM)</origin>
        <pubdate>20170428</pubdate>
        <title>2010 C-CAP 30 Meter Land Cover of Puerto Rico</title>
        <geoform>remote-sensing image</geoform>
        <pubinfo>
          <pubplace>Charleston, SC</pubplace>
          <publish>NOAA's Ocean Service, Office for Coastal Management (OCM)</publish>
        </pubinfo>
        <onlink>https://coast.noaa.gov/dataviewer/#/landcover/search/where:ID=6288</onlink>
        <onlink>https://coast.noaa.gov/digitalcoast/dataregistry/#</onlink>
        <onlink>https://coast.noaa.gov/ccapftp/</onlink>
      </citeinfo>
    </citation>
    <descript>
      <abstract>This data set consists of land cover derived from high resolution imagery and was analyzed according to the Coastal Change Analysis Program (C-CAP) protocol to determine land cover. This data set utilized 2010 CIR imagery provided by the United Stated Army Corps of Engineers.</abstract>
      <purpose>To improve the understanding of coastal uplands and wetlands, and their linkages with the distribution, abundance, and health of living marine resources.</purpose>
    </descript>
    <timeperd>
      <timeinfo>
        <sngdate>
          <caldate>20150730</caldate>
        </sngdate>
      </timeinfo>
      <current>2010</current>
    </timeperd>
    <status>
      <progress>Complete</progress>
      <update>5 years</update>
    </status>
    <spdom>
      <bounding>
        <westbc>-67.304749</westbc>
        <eastbc>-65.231528</eastbc>
        <northbc>18.547086</northbc>
        <southbc>17.867503</southbc>
      </bounding>
    </spdom>
    <keywords>
      <theme>
        <themekt>ISO 19115 Topic Category</themekt>
        <themekey>imageryBaseMapsEarthCover</themekey>
      </theme>
      <theme>
        <themekt>None</themekt>
        <themekey>Remotely Sensed Imagery/Photos</themekey>
        <themekey>Land Cover Analysis</themekey>
        <themekey>Land Cover</themekey>
      </theme>
      <place>
        <placekt>None</placekt>
        <placekey>Coastal Zone</placekey>
        <placekey>Puerto Rico</placekey>
      </place>
    </keywords>
    <accconst>None</accconst>
    <useconst>Data set is not for use in litigation. While efforts have been made to ensure that these data are accurate and reliable within the state of the art, NOAA, cannot assume liability for any damages, or misrepresentations, caused by any inaccuracies in the data, or as a result of the data to be used on a particular system. NOAA makes no warranty, expressed or implied, nor does the fact of distribution constitute such a warranty.</useconst>
    <native>Microsoft Windows 7 Version 6.1 (Build 7601) Service Pack 1; ESRI ArcGIS 10.1 SP 1</native>
  </idinfo>
  <dataqual>
    <attracc>
      <attraccr>No accuracy was determined for this land cover data set.</attraccr>
    </attracc>
    <logic>Tests for logical consistency indicate that all row and column positions in the selected latitude/longitude window contain data. Conversion and integration with vector files indicates that all positions are consistent with earth coordinates covering the same area. Attribute files are logically consistent.</logic>
    <complete>Data does not exist for all classes.
There are no pixels representing class 11 (Mixed Forest), 24 (Tundra), 25 (Perennial Ice/Snow), 26 (Dwarf Scrub - Alaska specific class), 27 (Sedge/Herbaceous), and 28 (Moss - Alaska specific).  Developed classes have been altered to exclude the percentage breakdown of impervious surfaces as the breakdown is not appropriate for high resolution mapping (Developed High Intensity (2), Developed Medium Intensity (3), and Developed Low Intensity (4) are reduced to Impervious (Class 2).</complete>
    <posacc>
      <horizpa>
        <horizpar>&lt; 10.7 meters CE90</horizpar>
      </horizpa>
      <vertacc>
        <vertaccr>There was no terrain correction in the geo-referencing procedure.</vertaccr>
      </vertacc>
    </posacc>
    <lineage>
      <srcinfo>
        <srccite>
          <citeinfo>
            <origin>Dewberry. www.dewberry.com.</origin>
            <pubdate>20150730</pubdate>
            <title>C-CAP Land Cover, Puerto Rico, 2015</title>
            <geoform>remote-sensing image</geoform>
            <pubinfo>
              <pubplace>Charleston SC</pubplace>
              <publish>NOAA's Ocean Service, Office for Coastal Management (OCM)</publish>
            </pubinfo>
            <onlink>https://coast.noaa.gov/digitalcoast</onlink>
          </citeinfo>
        </srccite>
        <typesrc>DVD/CD-ROM</typesrc>
        <srctime>
          <timeinfo>
            <sngdate>
              <caldate>20150730</caldate>
            </sngdate>
          </timeinfo>
          <srccurr>2010</srccurr>
        </srctime>
        <srccitea>NOAA CSC</srccitea>
        <srccontr>NOAA CSC</srccontr>
      </srcinfo>
      <procstep>
        <procdesc>This data set was created by Dewberry (www.dewberry.com). This version of the classification is the High Resolution Land Cover (2010-era) for the Island of Puerto Rico.
This section outlines the classification procedure for the Puerto Rico High Resolution C-CAP. The color-infrared imagery used in producing this land cover product was also utilized in producing an associated impervious surfaces layer for the island. Non impervious features were mapped using a 0.25 acre minimum mapping unit (MMU) and impervious features were mapped using a 0.1 acre MMU.
Image Preparation: The aerial imagery was supplied to Dewberry by the USACE. Due to quality issues during acquisition, the USACE had to perform additional post processing on the imagery to make it suitable for land cover mapping. Dewberry received the imagery on December 17, 2012 and performed a QA review to inspect and document voids, clouds/smoke cover, inconstant radiometry, shadows, and artifacts. Individual image tiles were merged into a single mosaic and re-sampled from the native 1-foot spatial resolution to 2-m.
Automated Land Cover Classification: An Object Based Image Analysis (OBIA) approach was used to automate the preliminary land cover results. This approach uses eCognition software that groups pixels that share similar spectral properties based on the user's defined parameters and organizes these groups into polygons through a process called segmentation. Once the aerial imagery was segmented into image objects the land cover classification was performed using thresholding, thematic, and supervised classification processes in eCognition.
Classification Review: Once various stages of the automated land cover classification processing were completed, the resulting land cover was edited manually by Dewberry's aerial photointerpreters using ERDAS Imagine software. The land cover was reviewed for geometry and classification errors and corrected using ERDAS' raster editing tools. A 30 meter land cover map was created from the 2 meter product by performing a majority focal analysis and incorporating the percent impervious values in accordance with the C-CAP 30 meter class definitions (High Intensity Developed &gt; 79% impervious, Medium Intensity Developed &gt; 49% impervious, and Low Intensity Developed &gt; 19% impervious).
Map Finalization: Dewberry used independent reviewer's comments to further refine the land cover map.
Attributes for this product are as follows:
0 Background,
1 Unclassified (Cloud, Shadow, etc),
2 High Intensity Developed,
3 Medium Intensity Developed,
4 Low Intensity Developed,
5 Developed Open Space,
6 Cultivated Land,
7 Pasture/Hay,
8 Grassland,
9 Deciduous Forest,
10 Evergreen Forest,
11 Mixed Forest,
12 Scrub/Shrub,
13 Palustrine Forested Wetland,
14 Palustrine Scrub/Shrub Wetland,
15 Palustrine Emergent Wetland,
16 Estuarine Forested Wetland,
17 Estuarine Scrub/Shrub Wetland,
18 Estuarine Emergent Wetland,
19 Unconsolidated Shore,
20 Bare Land,
21 Open Water,
22 Palustrine Aquatic Bed,
23 Estuarine Aquatic Bed
</procdesc>
        <procdate>20141231</procdate>
        <proccont>
          <cntinfo>
            <cntorgp>
              <cntorg>NOAA Office for Coastal Management Coastal Change Analysis Program (C-CAP)</cntorg>
            </cntorgp>
            <cntaddr>
              <addrtype>mailing and physical</addrtype>
              <address>2234 S. Hobson Ave.</address>
              <city>Charleston</city>
              <state>SC</state>
              <postal>29405</postal>
              <country>USA</country>
            </cntaddr>
            <cntvoice>843-740-1202</cntvoice>
            <cntemail>coastal.info@noaa.gov</cntemail>
            <hours>8:00 am to 5:00 p.m. EST. M-F</hours>
          </cntinfo>
        </proccont>
      </procstep>
      <procstep>
        <procdesc>Metadata imported</procdesc>
        <procdate>20150730</procdate>
        <proccont>
          <cntinfo>
            <cntorgp>
              <cntorg>NOAA Office for Coastal Management Coastal Change Analysis Program (C-CAP)</cntorg>
            </cntorgp>
            <cntaddr>
              <addrtype>mailing and physical</addrtype>
              <address>2234 S. Hobson Ave.</address>
              <city>Charleston</city>
              <state>SC</state>
              <postal>29405</postal>
            </cntaddr>
            <cntvoice>843-740-1202</cntvoice>
            <cntemail>coastal.info@noaa.gov</cntemail>
            <hours>Monday to Friday, 8 a.m. to 5 p.m., Eastern Standard Time</hours>
          </cntinfo>
        </proccont>
      </procstep>
    </lineage>
  </dataqual>
  <spdoinfo>
    <direct>Raster</direct>
    <rastinfo>
      <rasttype>Pixel</rasttype>
      <rowcount>2376</rowcount>
      <colcount>7252</colcount>
      <vrtcount>1</vrtcount>
    </rastinfo>
  </spdoinfo>
  <spref>
    <horizsys>
      <planar>
        <gridsys>
          <gridsysn>State Plane Coordinate System 1983</gridsysn>
          <spcs>
            <spcszone>5200</spcszone>
            <transmer>
              <sfctrmer>10000</sfctrmer>
              <longcm>-66.433334</longcm>
              <latprjo>17.833333</latprjo>
              <feast>200000.000000</feast>
              <fnorth>200000.000000</fnorth>
            </transmer>
          </spcs>
        </gridsys>
        <planci>
          <plance>row and column</plance>
          <coordrep>
            <absres>30.00000</absres>
            <ordres>30.00000</ordres>
          </coordrep>
          <plandu>meters</plandu>
        </planci>
      </planar>
      <geodetic>
        <horizdn>GCS_North_American_1983</horizdn>
        <ellips>GRS_1980</ellips>
        <semiaxis>6378137.000000</semiaxis>
        <denflat>298.257222</denflat>
      </geodetic>
    </horizsys>
  </spref>
  <eainfo>
    <detailed>
      <enttyp>
        <enttypl>Layer_1</enttypl>
        <enttypd>Puerto Rico collected 2010.</enttypd>
        <enttypds>unknown</enttypds>
      </enttyp>
      <attr>
        <attrlabl>Value</attrlabl>
        <attrdef>Landcover Classification as determined by NOAA Coastal Change Analysis Program (C-CAP)</attrdef>
        <attrdefs>NOAA Office for Coastal Management High-Resolution Land Cover Project</attrdefs>
        <attrdomv>
          <edom>
            <edomv>1 Unclassified</edomv>
            <edomvd>This class contains no
data due to cloud conditions or data voids.</edomvd>
            <edomvds>N/A</edomvds>
          </edom>
        </attrdomv>
        <attrdomv>
          <edom>
            <edomv>2 High Intensity Developed</edomv>
            <edomvd>Contains little or no vegetation. This subclass includes heavily built-up urban centers as well as large constructed surfaces in suburban and rural areas.  Large buildings (such as multiple family housing, hangars, and large barns), interstate highways, and runways typically fall into this subclass.  Impervious surfaces account for 80-100 percent of the total cover.</edomvd>
            <edomvds>https://coast.noaa.gov/data/digitalcoast/pdf/ccap-class-scheme-regional.pdf</edomvds>
          </edom>
        </attrdomv>
        <attrdomv>
          <edom>
            <edomv>3 Medium Intensity Developed</edomv>
            <edomvd>Contains substantial amounts of constructed surface mixed with substantial amounts of vegetated surface. Small buildings (such as single family housing, farm outbuildings, and large sheds), typically fall into this subclass. Impervious surfaces account for 50-79 percent of the total cover.</edomvd>
            <edomvds>https://coast.noaa.gov/data/digitalcoast/pdf/ccap-class-scheme-regional.pdf</edomvds>
          </edom>
        </attrdomv>
        <attrdomv>
          <edom>
            <edomv>4 Low Intensity Developed</edomv>
            <edomvd>Contains constructed surface mixed with vegetated surface. This class includes features seen class 3, with the addition of streets and roads with associated trees and grasses. Impervious surfaces account for 21-49 percent of the total cover.</edomvd>
            <edomvds>https://coast.noaa.gov/data/digitalcoast/pdf/ccap-class-scheme-regional.pdf</edomvds>
          </edom>
        </attrdomv>
        <attrdomv>
          <edom>
            <edomv>5 Open Spaces Developed</edomv>
            <edomvd>Includes areas with a mixture of some constructed materials, but mostly 
            	vegetation in the form of lawn grasses. Impervious surfaces account for 
less than 20 percent of total cover. These areas most commonly include 
large-lot single-family housing units, parks, golf courses, and vegetation
planted in developed settings for recreation, erosion control, or
aesthetic purposes.</edomvd>
            <edomvds>NLCD 2001 Land Cover Class Definitions, 2004
http://www.mrlc.gov/nlcd_definitions.asp</edomvds>
          </edom>
        </attrdomv>
        <attrdomv>
          <edom>
            <edomv>6 Cultivated Land</edomv>
            <edomvd>Includes herbaceous (cropland) and woody (e.g., orchards,
nurseries, and vineyards) cultivated lands.</edomvd>
            <edomvds>Dobson, J. et al, NOAA Coastal Change Analysis Program (C-CAP):
Guidance for Regional Implementation, NOAA Technical
Report NMFS 123, U.S. Department of Commerce, April
1995.</edomvds>
          </edom>
        </attrdomv>
        <attrdomv>
          <edom>
            <edomv>7 Pasture/Hay</edomv>
            <edomvd>characterized by grasses, legumes or grass-legumes mixtures
planted for livestock grazing or the production of sees or
hay crops.</edomvd>
            <edomvds>NLCD 2001 Land Cover Class Definitions, 2004
http://www.mrlc.gov/nlcd_definitions.asp</edomvds>
          </edom>
        </attrdomv>
        <attrdomv>
          <edom>
            <edomv>8 Grassland</edomv>
            <edomvd>Dominated by naturally occurring grasses and non-grasses
(forbs) that are not fertilized, cut, tilled, or planted
regularly.</edomvd>
            <edomvds>Dobson, J. et al, NOAA Coastal Change Analysis Program (C-CAP):
Guidance for Regional Implementation, NOAA Technical
Report NMFS 123, U.S. Department of Commerce, April
1995.</edomvds>
          </edom>
        </attrdomv>
        <attrdomv>
          <edom>
            <edomv>9 Deciduous Forest</edomv>
            <edomvd>Includes areas dominated by single stemmed, woody
vegetation un-branched 0.6 to 1 meter (2 to 3 feet) above
the ground and having a height greater than 5 meters (20
feet).</edomvd>
            <edomvds>Dobson, J. et al, NOAA Coastal Change Analysis Program (C-CAP):
Guidance for Regional Implementation, NOAA Technical
Report NMFS 123, U.S. Department of Commerce, April
1995.</edomvds>
          </edom>
        </attrdomv>
        <attrdomv>
          <edom>
            <edomv>10 Evergreen Forest</edomv>
            <edomvd>Includes areas in which more than 67 percent of the trees
remain green throughout the year. Both coniferous and
broad-leaved evergreens (greater than 5 meters) are
included in this category.</edomvd>
            <edomvds>Dobson, J. et al, NOAA Coastal Change Analysis Program (C-CAP):
Guidance for Regional Implementation, NOAA Technical
Report NMFS 123, U.S. Department of Commerce, April
1995.</edomvds>
          </edom>
        </attrdomv>
        <attrdomv>
          <edom>
            <edomv>11 Mixed Forest</edomv>
            <edomvd>Contains all forested areas in which both evergreen and
deciduous trees (greater than 5 meters) are growing and
neither predominate.</edomvd>
            <edomvds>Dobson, J. et al, NOAA Coastal Change Analysis Program (C-CAP):
Guidance for Regional Implementation, NOAA Technical
Report NMFS 123, U.S. Department of Commerce, April
1995.</edomvds>
          </edom>
        </attrdomv>
        <attrdomv>
          <edom>
            <edomv>12 Scrub/Shrub</edomv>
            <edomvd>Areas dominated by woody vegetation less than 5 meters in
height. This class includes true shrubs, young trees, and
trees or shrubs that are small or stunted because of
environmental conditions.</edomvd>
            <edomvds>Dobson, J. et al, NOAA Coastal Change Analysis Program (C-CAP):
Guidance for Regional Implementation, NOAA Technical
Report NMFS 123, U.S. Department of Commerce, April
1995.</edomvds>
          </edom>
        </attrdomv>
        <attrdomv>
          <edom>
            <edomv>13 Palustrine Forested Wetland</edomv>
            <edomvd>Includes all non-tidal wetlands dominated by woody
vegetation greater than or equal to 5 meters in height,
and all such wetlands that occur in tidal areas in which
salinity due to ocean-derived salts is below 0.5 parts per
thousand (ppt).</edomvd>
            <edomvds>Dobson, J. et al, NOAA Coastal Change Analysis Program (C-CAP):
Guidance for Regional Implementation, NOAA Technical
Report NMFS 123, U.S. Department of Commerce, April
1995.</edomvds>
          </edom>
        </attrdomv>
        <attrdomv>
          <edom>
            <edomv>14 Palustrine Scrub/Shrub Wetland</edomv>
            <edomvd>Includes all non-tidal wetlands dominated by woody
vegetation less than or equal to 5 meters in height, and
all such wetlands that occur in tidal areas in which
salinity due to ocean-derived salts is below 0.5 ppt.</edomvd>
            <edomvds>Dobson, J. et al, NOAA Coastal Change Analysis Program (C-CAP):
Guidance for Regional Implementation, NOAA Technical
Report NMFS 123, U.S. Department of Commerce, April
1995.</edomvds>
          </edom>
        </attrdomv>
        <attrdomv>
          <edom>
            <edomv>15 Palustrine Emergent Wetland</edomv>
            <edomvd>Includes all non-tidal wetlands dominated by trees, shrubs,
persistent emergents, emergent mosses, or lichens, and all
such wetlands that occur in tidal areas in which salinity
due to ocean- derived salts is below 0.5 ppt.</edomvd>
            <edomvds>Dobson, J. et al, NOAA Coastal Change Analysis Program (C-CAP):
Guidance for Regional Implementation, NOAA Technical
Report NMFS 123, U.S. Department of Commerce, April
1995.</edomvds>
          </edom>
        </attrdomv>
        <attrdomv>
          <edom>
            <edomv>16 Estuarine Forest Wetland</edomv>
            <edomvd>Includes all tidal wetlands dominated by woody vegetation
greater than or equal to 5 meters in height, and all such
wetlands that occur in tidal areas in which salinity due
to ocean-derived salts is above 0.5 parts per thousand
(ppt).</edomvd>
            <edomvds>Dobson, J. et al, NOAA Coastal Change Analysis Program (C-CAP):
Guidance for Regional Implementation, NOAA Technical
Report NMFS 123, U.S. Department of Commerce, April
1995.</edomvds>
          </edom>
        </attrdomv>
        <attrdomv>
          <edom>
            <edomv>17 Estuarine Scrub/Shrub Wetland</edomv>
            <edomvd>Includes all tidal wetlands dominated by woody vegetation
less than 5 meters in height, and all such
wetlands that occur in tidal areas in which salinity due
to ocean-derived salts is above 0.5 ppt.</edomvd>
            <edomvds>Dobson, J. et al, NOAA Coastal Change Analysis Program (C-CAP):
Guidance for Regional Implementation, NOAA Technical
Report NMFS 123, U.S. Department of Commerce, April
1995.</edomvds>
          </edom>
        </attrdomv>
        <attrdomv>
          <edom>
            <edomv>18 Estuarine Emergent</edomv>
            <edomvd>Characterized by erect, rooted, herbaceous hydrophytes
(excluding mosses and lichens) that are present for most
of the growing season in most years. Perennial plants
usually dominate these wetlands. All water regimes are
included except those that are sub-tidal and irregularly
exposed.</edomvd>
            <edomvds>Dobson, J. et al, NOAA Coastal Change Analysis Program (C-CAP):
Guidance for Regional Implementation, NOAA Technical
Report NMFS 123, U.S. Department of Commerce, April
1995.</edomvds>
          </edom>
        </attrdomv>
        <attrdomv>
          <edom>
            <edomv>19 Unconsolidated Shore</edomv>
            <edomvd>Characterized by substrates lacking vegetation except for
pioneering plants that become established during brief
periods when growing conditions are favorable. Erosion and
deposition by waves and currents produce a number of
landforms, such as beaches, bars, and flats, all of which
are included in this class.</edomvd>
            <edomvds>Dobson, J. et al, NOAA Coastal Change Analysis Program (C-CAP):
Guidance for Regional Implementation, NOAA Technical
Report NMFS 123, U.S. Department of Commerce, April
1995.</edomvds>
          </edom>
        </attrdomv>
        <attrdomv>
          <edom>
            <edomv>20 Bare Land</edomv>
            <edomvd>Composed of bare soil, rock, sand, silt, gravel, or other
earthen material with little or no vegetation.</edomvd>
            <edomvds>Dobson, J. et al, NOAA Coastal Change Analysis Program (C-CAP):
Guidance for Regional Implementation, NOAA Technical
Report NMFS 123, U.S. Department of Commerce, April
1995.</edomvds>
          </edom>
        </attrdomv>
        <attrdomv>
          <edom>
            <edomv>21 Water</edomv>
            <edomvd>Includes all areas of open water with less than 30 percent
cover of trees, shrubs, persistent emergent plants,
emergent mosses, or lichens.</edomvd>
            <edomvds>Dobson, J. et al, NOAA Coastal Change Analysis Program (C-CAP):
Guidance for Regional Implementation, NOAA Technical
Report NMFS 123, U.S. Department of Commerce, April
1995.</edomvds>
          </edom>
        </attrdomv>
        <attrdomv>
          <edom>
            <edomv>22 Palustrine Aquatic Bed</edomv>
            <edomvd>Includes wetlands and deepwater habitats dominated by
plants that grow principally on or below the surface of
the water for most of the growing season in most years.</edomvd>
            <edomvds>Dobson, J. et al, NOAA Coastal Change Analysis Program (C-CAP):
Guidance for Regional Implementation, NOAA Technical
Report NMFS 123, U.S. Department of Commerce, April
1995.</edomvds>
          </edom>
        </attrdomv>
        <attrdomv>
          <edom>
            <edomv>23 Estuarine Aquatic Bed</edomv>
            <edomvd>Includes widespread and diverse Algal Beds in the Marine
and Estuarine Systems, where they occupy substrates
characterized by a wide range of sediment depths and
textures. They occur in both the sub-tidal and inter-tidal
Subsystems and may grow to depths of 30 m (98 feet).
This class includes kelp forests.</edomvd>
            <edomvds>Dobson, J. et al, NOAA Coastal Change Analysis Program (C-CAP):
Guidance for Regional Implementation, NOAA Technical
Report NMFS 123, U.S. Department of Commerce, April
1995.</edomvds>
          </edom>
        </attrdomv>
        <attrdomv>
          <edom>
            <edomv>24 Tundra</edomv>
            <edomvd>Includes treeless cover beyond the latitudinal limit of
