0.0000089993
0.0000000000
0.0000000000
-0.0000089993
-70.6993250540
41.9825773937
