0.0000089993
0.0000000000
0.0000000000
-0.0000089993
-70.6794096472
42.0062814972
