0.0000089993
0.0000000000
0.0000000000
-0.0000089993
-70.5359251260
41.8040226781
