0.0000089993
0.0000000000
0.0000000000
-0.0000089993
-70.7389398848
42.2146328291
