0.0000089993
0.0000000000
0.0000000000
-0.0000089993
-70.6121670266
41.4845572352
