1.5607241378
0.0000000000
0.0000000000
-1.5607241378
640715.2042961473
8435818.9548440538
