1.8245169663
0.0000000000
0.0000000000
-1.8245169663
516035.2211362213
8421324.8345065117
